BEGIN:VCALENDAR
VERSION:2.0
PRODID:-//SVFK - ECPv6.3.6//NONSGML v1.0//EN
CALSCALE:GREGORIAN
METHOD:PUBLISH
X-WR-CALNAME:SVFK
X-ORIGINAL-URL:https://test.svfk.dk
X-WR-CALDESC:Begivenheder for SVFK
REFRESH-INTERVAL;VALUE=DURATION:PT1H
X-Robots-Tag:noindex
X-PUBLISHED-TTL:PT1H
BEGIN:VTIMEZONE
TZID:Europe/Copenhagen
BEGIN:DAYLIGHT
TZOFFSETFROM:+0100
TZOFFSETTO:+0200
TZNAME:CEST
DTSTART:20240331T010000
END:DAYLIGHT
BEGIN:STANDARD
TZOFFSETFROM:+0200
TZOFFSETTO:+0100
TZNAME:CET
DTSTART:20241027T010000
END:STANDARD
END:VTIMEZONE
BEGIN:VEVENT
DTSTART;TZID=Europe/Copenhagen:20240110T090000
DTEND;TZID=Europe/Copenhagen:20240120T153000
DTSTAMP:20260424T180657
CREATED:20191121T101604Z
LAST-MODIFIED:20231214T113633Z
UID:24335-1704877200-1705764600@test.svfk.dk
SUMMARY:4-dages kursus i modellering/skulpturering i ler + glasering
DESCRIPTION:Kurset giver en grundlæggende indføring i modellering og kredser om materialelære\, modelleringsteknikker og brændingsteknik. De forskellige lertyper og grundbegreber om modellering vil blive gennemgået\, og deltagerne får i høj grad lov til selv at afprøve de forskellige teknikker. \nEfter brænding gives en grundlæggende indføring i glasur og glaseringsteknik. \nVi begynder med tre dages modellering/skulpturering\, hvorefter elementerne tørres og brændes over en uge. Herefter er der afsat én dag til indføring i glasur og glaseringsteknik. Når det hele er færdigbrændt\, følger vi op med en times evaluering og kigger på resultatet af arbejdet. \n  \n\n\n\n\n\nVed kursets afslutning har du: \n\nMaterialekendskab til de forskellige lertyper\nErfaring med modellering og brænding\nEn grundlæggende viden om glasur og glasering\n\n\n\n\n\n\nKURSUSINFO \n3 + 1 dage:10. – 12. + 20. januar 2024Alle dage kl. 9 – 15:30 \nPris: 1.775\,- kr.Prisen er inklusiv materialer\, kaffe og te. Du bedes selv medbringe frokost. Er du medlem af BKF\, kan du få 20% rabat. Tilbuddet gælder for de første 30 tilmeldte på vores kursusrække 2023/2024. \nAntal deltagere: 8-10 \nAdresse:Statens Værksteder for KunstStrandgade 27B\, Plan 01401 København K \nOm underviserenMikael Jackson er uddannet keramiker fra både Designskolen Kolding og Glass & Ceramics på Royal College of Art i London. Han arbejder som udøvende keramiker og har modtaget priser og præmieringer for sine værker. Til daglig underviser han og er værkstedsleder på Det Kongelige Akademi samt værkstedskonsulent på Statens Værksteder for Kunst. \nAnsøgning og målgruppeKurset henvender sig til billedkunstnere\, kunsthåndværkere\, designere og arkitekter med lidt eller ingen erfaring med keramik. Formålet skal være til brug i egen praksis.  \n\n\n \nSend din ansøgning med CV og en kort beskrivelse af din motivation for og forventninger til kurset i en samlet mail til kursus@svfk.dk senest søndag den 10. december 2023. \n\n\n \nHar du spørgsmål til kurset\, ansøgningsproceduren eller andet\, så kontakt Rebekka Lewin: rebekka@svfk.dk \nNB! Vi forbeholder os retten til at aflyse kurset\, hvis der ikke er nok tilmeldinger. \nAfmelding skal ske skriftligt til administrationen. Indtil tilmeldingsfristen kan afmelding ske uden beregning. Ved afmelding efter fristen betales 50 % af kursusafgiften. Ved afmelding senere end 3 dage før kursusstart betales hele kursusafgiften. Man har mulighed for at sende en stedfortræder\, hvis man er forhindret i at deltage. \nSVFKs kursusrække er støttet af Augustinus Fonden\, Beckett Fonden\, Danmarks Nationalbanks Jubilæumsfond og 15. Juni Fonden.
URL:https://test.svfk.dk/event/4-dages-kursus-i-modellering-skulpturering-i-ler-og-glasering
LOCATION:Statens Værksteder for Kunst\, Strandgade 27B\, København K\, 1401\, Danmark
CATEGORIES:Event,Kurser
ATTACH;FMTTYPE=image/jpeg:https://test.svfk.dk/wp-content/uploads/2019/11/Pic-1-1.jpg
END:VEVENT
END:VCALENDAR